BEGIN:VCALENDAR
VERSION:2.0
PRODID:-//EEL - ECPv6.3.5//NONSGML v1.0//EN
CALSCALE:GREGORIAN
METHOD:PUBLISH
X-WR-CALNAME:EEL
X-ORIGINAL-URL:https://www.ehitusinsener.ee
X-WR-CALDESC:Events for EEL
REFRESH-INTERVAL;VALUE=DURATION:PT1H
X-Robots-Tag:noindex
X-PUBLISHED-TTL:PT1H
BEGIN:VTIMEZONE
TZID:Europe/Helsinki
BEGIN:DAYLIGHT
TZOFFSETFROM:+0200
TZOFFSETTO:+0300
TZNAME:EEST
DTSTART:20260329T010000
END:DAYLIGHT
BEGIN:STANDARD
TZOFFSETFROM:+0300
TZOFFSETTO:+0200
TZNAME:EET
DTSTART:20261025T010000
END:STANDARD
END:VTIMEZONE
BEGIN:VEVENT
DTSTART;TZID=Europe/Helsinki:20260202T101500
DTEND;TZID=Europe/Helsinki:20261218T170000
DTSTAMP:20260421T153647
CREATED:20251216T081223Z
LAST-MODIFIED:20251216T081529Z
UID:2977-1770027300-1797613200@www.ehitusinsener.ee
SUMMARY:02.02. - 18.12.2026 Muinsuskaitse ja restaureerimisalane täienduskoolitus ehitusinseneridele
DESCRIPTION:Tallinna Tehnikaülikooli Tartu kolledž korraldab muinsuskaitse ja restaureerimisalase täienduskoolituse ehitusinseneridele. Lisainfo ja registreerimine: register.taltech.ee/tois.php?koolitus=52085
URL:https://www.ehitusinsener.ee/event/02-02-18-12-2026-muinsuskaitse-ja-restaureerimisalane-taienduskoolitus-ehitusinseneridele/
CATEGORIES:Koolitused
END:VEVENT
BEGIN:VEVENT
DTSTART;TZID=Europe/Helsinki:20260414T094500
DTEND;TZID=Europe/Helsinki:20260429T180000
DTSTAMP:20260421T153647
CREATED:20260226T123026Z
LAST-MODIFIED:20260226T123027Z
UID:3047-1776159900-1777485600@www.ehitusinsener.ee
SUMMARY:Korterelamute rekonstrueerimise EIS toetusmeetme tehniliste konsultantide koolitus
DESCRIPTION:Tallinna Tehnikaülikoolis on tulemas Korterelamute rekonstrueerimise EIS toetusmeetme tehniliste konsultantide koolitus. Lisainfo ja registreerimine: https://taltech.ee/kursus/53684
URL:https://www.ehitusinsener.ee/event/korterelamute-rekonstrueerimise-eis-toetusmeetme-tehniliste-konsultantide-koolitus/
CATEGORIES:Koolitused
END:VEVENT
BEGIN:VEVENT
DTSTART;TZID=Europe/Helsinki:20260506T103000
DTEND;TZID=Europe/Helsinki:20260506T160000
DTSTAMP:20260421T153647
CREATED:20260405T110618Z
LAST-MODIFIED:20260408T092809Z
UID:3084-1778063400-1778083200@www.ehitusinsener.ee
SUMMARY:EELi koolitus 06.05.2026 „Paldiski Lõunasadama uus multifunktsionaalne kai 6A“.
DESCRIPTION:Eesti Ehitusinseneride Liit koostöös Tallinna Sadamaga korraldab 6.mail 2026 täienduskoolituse „Paldiski uus kai 6A“. \n\n\n\nKoolitus toimub Paldiski sadamas. \n\n\n\nKoolituse päevaka: \n\n\n\n10.30-11.00Saabumine\, registreerimine\, hommikukohv11.00-12.30Uued tehnilised lahendused ja tehnoloogiad sadamaehituses Paldiski uue kai 6A näitel. Riho Joala\, Tallinna Sadama projektijuhtimise osakonna juhataja.– tellija lähteülesanne (sh millest juhinduti ning mida sooviti vältida)– hankemenetluse valik (miks just konkurentsipõhine läbirääkimistega hankemenetlus ja mitte näiteks allians)– probleemid ja tehnilised lahendused ehitustööde tegemisel– innovatsioon– õppetunnid12.30-13.00Kerge lõuna.13.00-14.30Paldiski multifunktsionaalse kai projekteerimise probleemid ja väljakutsed. Heiki Meos\, EstKONSULT OÜ ekspert.14.30-15.30Sadamakai külastus.\n\n\n\nKoolitusel osalejad saavad tõendi 5\,6TP-ga \n\n\n\nOsavõtutasu 180 EUR+km \n\n\n\n130 EUR+km (EELi\, EKVÜ\, EVKIS\,EGÜ JA EVL liikmed) \n\n\n\nRegistreeimine koolitusele kuni 04.05.2026 (ka) \n\n\n\nNB! Kui registreerud allpoololeva registreerumisvormi kaudu\, siis eduka registreerumise puhul peaksid pärast nupule “Registreeru” vajutamist saama rohelisel taustal teate\, et registreerumine õnnestus. \n\n\nKoolitusel osaleja nimi *EEL liige või EKVÜ\, EVKIS\, EGÜ\, EVL liige *EELEKVÜEVKISEGÜEVLEi ole liigeTelefon *Email *Andmed arve tegemiseks *Soovin tulla koolitusele EELi poolt tellitud bussiga *Tulen koolitusele oma transpordiga *Registreeru\n\n\nRegistreerida saab ka e-posti aadressil info@ehitusinsener.ee \n\n\n\nArve tühistamine/osavõtutasu tagasimaksmine võimalik\, kui mitteosalemisest teatatakse hiljemalt 29.04.2026 \n\n\n\nEEL tänab Peeter Nõgu\, Tallinna Sadama infrastruktuuri divisjoni juhti.
URL:https://www.ehitusinsener.ee/event/eeli-koolitus-06-05-2026-paldiski-lounasadama-uus-multifunktsionaalne-kai-6a/
CATEGORIES:Koolitused
END:VEVENT
END:VCALENDAR